{
 "currentVersion": 10.91,
 "serviceDescription": "ImageService/rawS2",
 "name": "ImageService/rawS2",
 "description": "",
 "extent": {
  "xmin": -159800.84130000044,
  "ymin": 6405220,
  "xmax": 1209949.1586999996,
  "ymax": 8800020,
  "spatialReference": {
   "wkid": 32633,
   "latestWkid": 32633
  }
 },
 "initialExtent": {
  "xmin": -159800.84130000044,
  "ymin": 6405220,
  "xmax": 1209949.1586999996,
  "ymax": 8800020,
  "spatialReference": {
   "wkid": 32633,
   "latestWkid": 32633
  }
 },
 "fullExtent": {
  "xmin": -159800.84130000044,
  "ymin": 6405220,
  "xmax": 1209949.1586999996,
  "ymax": 8800020,
  "spatialReference": {
   "wkid": 32633,
   "latestWkid": 32633
  }
 },
 "pixelSizeX": 10,
 "pixelSizeY": 10,
 "bandCount": 5,
 "pixelType": "S16",
 "minPixelSize": 0,
 "maxPixelSize": 0,
 "copyrightText": "",
 "serviceDataType": "esriImageServiceDataTypeProcessed",
 "minValues": [
  1,
  1,
  1,
  1,
  1
 ],
 "maxValues": [
  16880,
  16526,
  21006,
  22666,
  13235
 ],
 "meanValues": [
  4472.392460160171,
  3921.3577832351234,
  4107.611654852749,
  4109.100966445189,
  1515.3266350493134
 ],
 "stdvValues": [
  2980.6728732682445,
  2845.455426005195,
  3204.981249447276,
  3148.4404442941127,
  1585.0398429888955
 ],
 "objectIdField": "OBJECTID",
 "fields": [
  {
   "name": "OBJECTID",
   "type": "esriFieldTypeOID",
   "alias": "OBJECTID",
   "domain": null
  },
  {
   "name": "Shape",
   "type": "esriFieldTypeGeometry",
   "alias": "Shape",
   "domain": null
  },
  {
   "name": "Name",
   "type": "esriFieldTypeString",
   "alias": "Name",
   "domain": null,
   "length": 200
  },
  {
   "name": "MinPS",
   "type": "esriFieldTypeDouble",
   "alias": "MinPS",
   "domain": null
  },
  {
   "name": "MaxPS",
   "type": "esriFieldTypeDouble",
   "alias": "MaxPS",
   "domain": null
  },
  {
   "name": "LowPS",
   "type": "esriFieldTypeDouble",
   "alias": "LowPS",
   "domain": null
  },
  {
   "name": "HighPS",
   "type": "esriFieldTypeDouble",
   "alias": "HighPS",
   "domain": null
  },
  {
   "name": "Category",
   "type": "esriFieldTypeInteger",
   "alias": "Category",
   "domain": {
    "type": "codedValue",
    "name": "MosaicCatalogItemCategoryDomain",
    "description": "Catalog item categories.",
    "codedValues": [
     {
      "name": "Unknown",
      "code": 0
     },
     {
      "name": "Primary",
      "code": 1
     },
     {
      "name": "Overview",
      "code": 2
     },
     {
      "name": "Unprocessed Overview",
      "code": 3
     },
     {
      "name": "Partial Overview",
      "code": 4
     },
     {
      "name": "Inactive",
      "code": 5
     },
     {
      "name": "Uploaded",
      "code": 253
     },
     {
      "name": "Incomplete",
      "code": 254
     },
     {
      "name": "Custom",
      "code": 255
     }
    ],
    "mergePolicy": "esriMPTDefaultValue",
    "splitPolicy": "esriSPTDefaultValue"
   }
  },
  {
   "name": "Tag",
   "type": "esriFieldTypeString",
   "alias": "Tag",
   "domain": null,
   "length": 100
  },
  {
   "name": "GroupName",
   "type": "esriFieldTypeString",
   "alias": "GroupName",
   "domain": null,
   "length": 100
  },
  {
   "name": "ProductName",
   "type": "esriFieldTypeString",
   "alias": "ProductName",
   "domain": null,
   "length": 100
  },
  {
   "name": "CenterX",
   "type": "esriFieldTypeDouble",
   "alias": "CenterX",
   "domain": null
  },
  {
   "name": "CenterY",
   "type": "esriFieldTypeDouble",
   "alias": "CenterY",
   "domain": null
  },
  {
   "name": "ZOrder",
   "type": "esriFieldTypeInteger",
   "alias": "ZOrder",
   "domain": null
  },
  {
   "name": "Shape_Length",
   "type": "esriFieldTypeDouble",
   "alias": "Shape_Length",
   "domain": null
  },
  {
   "name": "Shape_Area",
   "type": "esriFieldTypeDouble",
   "alias": "Shape_Area",
   "domain": null
  },
  {
   "name": "opptakstidspunkt",
   "type": "esriFieldTypeDate",
   "alias": "opptakstidspunkt",
   "domain": null,
   "length": 8
  },
  {
   "name": "TileID",
   "type": "esriFieldTypeString",
   "alias": "TileID",
   "domain": null,
   "length": 255
  },
  {
   "name": "Tidsdiff_S3_S2_min",
   "type": "esriFieldTypeInteger",
   "alias": "Tidsdiff_S3_S2_min",
   "domain": null
  },
  {
   "name": "s3_snopros",
   "type": "esriFieldTypeSingle",
   "alias": "s3_snopros",
   "domain": null
  },
  {
   "name": "s3_skypros",
   "type": "esriFieldTypeSingle",
   "alias": "s3_skypros",
   "domain": null
  }
 ],
 "capabilities": "Image,Metadata,Catalog,Mensuration",
 "defaultMosaicMethod": "Northwest",
 "allowedMosaicMethods": "NorthWest,LockRaster,ByAttribute,Seamline,None",
 "sortField": "",
 "sortValue": null,
 "sortAscending": true,
 "mosaicOperator": "First",
 "maxDownloadSizeLimit": 2048,
 "defaultCompressionQuality": 0,
 "defaultResamplingMethod": "Nearest",
 "maxImageHeight": 6000,
 "maxImageWidth": 6000,
 "maxRecordCount": 1000,
 "maxDownloadImageCount": 20,
 "maxMosaicImageCount": 50,
 "allowRasterFunction": true,
 "rasterFunctionInfos": [
  {
   "name": "None",
   "description": "",
   "help": ""
  }
 ],
 "rasterTypeInfos": [
  {
   "name": "Raster Dataset",
   "description": "Supports all ArcGIS Raster Datasets",
   "help": ""
  }
 ],
 "mensurationCapabilities": "Basic",
 "hasHistograms": true,
 "hasColormap": false,
 "hasRasterAttributeTable": false,
 "minScale": 0,
 "maxScale": 0,
 "exportTilesAllowed": false,
 "hasMultidimensions": false,
 "supportsStatistics": true,
 "supportsAdvancedQueries": true,
 "editFieldsInfo": {
  "creationDateField": "created_date",
  "creatorField": "created_by",
  "editDateField": "changed_date",
  "editorField": "changed_by"
 },
 "ownershipBasedAccessControlForRasters": {
  "allowOthersToDelete": false,
  "allowOthersToUpdate": false
 },
 "allowComputeTiePoints": false,
 "useStandardizedQueries": true,
 "advancedQueryCapabilities": {
  "useStandardizedQueries": true,
  "supportsStatistics": true,
  "supportsOrderBy": true,
  "supportsDistinct": true,
  "supportsPagination": true
 },
 "spatialReference": {
  "wkid": 32633,
  "latestWkid": 32633
 }
}
