View In:
ArcGIS JavaScript
ArcGIS Online Map Viewer
ArcGIS Earth
ArcMap
View Footprint In:
ArcGIS Online Map Viewer
Service Description: ImageService/rawS2
Name: ImageService/rawS2
Description:
Single Fused Map Cache: false
Extent:
XMin: -159800.84130000044
YMin: 6405220.0
XMax: 1209949.1586999996
YMax: 8800020.0
Spatial Reference: 32633
(32633)
LatestVCSWkid(0)
Initial Extent:
XMin: -159800.84130000044
YMin: 6405220.0
XMax: 1209949.1586999996
YMax: 8800020.0
Spatial Reference: 32633
(32633)
LatestVCSWkid(0)
Full Extent:
XMin: -159800.84130000044
YMin: 6405220.0
XMax: 1209949.1586999996
YMax: 8800020.0
Spatial Reference: 32633
(32633)
LatestVCSWkid(0)
Pixel Size X: 10.0
Pixel Size Y: 10.0
Band Count: 5
Pixel Type: S16
RasterFunction Infos: {"rasterFunctionInfos": [{
"name": "None",
"description": "",
"help": ""
}]}
Mensuration Capabilities: Basic
Has Histograms: true
Has Colormap: false
Has Multi Dimensions : false
Rendering Rule:
Min Scale: 0
Max Scale: 0
Copyright Text:
Edit Fields Info:
- Creation Date Field: created_date
- Creator Field: created_by
- Edit Date Field: changed_date
- Editor Field: changed_by
Ownership Based Access Control:
- Allow Others to Update: false
- Allow Others to Delete: false
Service Data Type: esriImageServiceDataTypeProcessed
Min Values: 1, 1, 1, 1, 1
Max Values: 16880, 16526, 21006, 22666, 13235
Mean Values: 4472.392460160171, 3921.3577832351234, 4107.611654852749, 4109.100966445189, 1515.3266350493134
Standard Deviation Values: 2980.6728732682445, 2845.455426005195, 3204.981249447276, 3148.4404442941127, 1585.0398429888955
Object ID Field: OBJECTID
Fields:
-
OBJECTID
(
type: esriFieldTypeOID, alias: OBJECTID
)
-
Shape
(
type: esriFieldTypeGeometry, alias: Shape
)
-
Name
(
type: esriFieldTypeString, alias: Name, length: 200
)
-
MinPS
(
type: esriFieldTypeDouble, alias: MinPS
)
-
MaxPS
(
type: esriFieldTypeDouble, alias: MaxPS
)
-
LowPS
(
type: esriFieldTypeDouble, alias: LowPS
)
-
HighPS
(
type: esriFieldTypeDouble, alias: HighPS
)
-
Category
(
type: esriFieldTypeInteger, alias: Category
, Coded Values:
[0: Unknown]
, [1: Primary]
, [2: Overview]
, ...6 more...
)
-
Tag
(
type: esriFieldTypeString, alias: Tag, length: 100
)
-
GroupName
(
type: esriFieldTypeString, alias: GroupName, length: 100
)
-
ProductName
(
type: esriFieldTypeString, alias: ProductName, length: 100
)
-
CenterX
(
type: esriFieldTypeDouble, alias: CenterX
)
-
CenterY
(
type: esriFieldTypeDouble, alias: CenterY
)
-
ZOrder
(
type: esriFieldTypeInteger, alias: ZOrder
)
-
Shape_Length
(
type: esriFieldTypeDouble, alias: Shape_Length
)
-
Shape_Area
(
type: esriFieldTypeDouble, alias: Shape_Area
)
-
opptakstidspunkt
(
type: esriFieldTypeDate, alias: opptakstidspunkt, length: 8
)
-
TileID
(
type: esriFieldTypeString, alias: TileID, length: 255
)
-
Tidsdiff_S3_S2_min
(
type: esriFieldTypeInteger, alias: Tidsdiff_S3_S2_min
)
-
s3_snopros
(
type: esriFieldTypeSingle, alias: s3_snopros
)
-
s3_skypros
(
type: esriFieldTypeSingle, alias: s3_skypros
)
Default Mosaic Method: Northwest
Allowed Mosaic Methods: NorthWest,LockRaster,ByAttribute,Seamline,None
SortField:
SortValue: null
Mosaic Operator: First
Default Compression Quality: 0
Default Resampling Method: Nearest
Max Record Count: 1000
Max Image Height: 6000
Max Image Width: 6000
Max Download Image Count: 20
Max Mosaic Image Count: 50
Allow Raster Function: true
Allow Copy: null
Allow Analysis: null
Allow Compute TiePoints: false
Supports Statistics: true
Supports Advanced Queries: true
Use StandardizedQueries: true
Raster Type Infos:
Name: Raster Dataset
Description: Supports all ArcGIS Raster Datasets
Help:
Has Raster Attribute Table: false
Edit Fields Info: {"creationDateField":"created_date","creatorField":"created_by","editDateField":"changed_date","editorField":"changed_by"}
Ownership Based AccessControl For Rasters: {"allowOthersToDelete":false,"allowOthersToUpdate":false}
Child Resources:
Info
Histograms
Key Properties
Legend
Raster Function Infos
Supported Operations:
Export Image
Query
Identify
Measure
Compute Histograms
Compute Statistics Histograms
Get Samples
Compute Class Statistics
Query Boundary
Compute Pixel Location
Compute Angles
Validate
Project