View In:
ArcGIS JavaScript
ArcGIS Online Map Viewer
ArcGIS Earth
ArcMap
ArcGIS Pro
View Footprint In:
ArcGIS Online Map Viewer
Service Description: Data som viser den geografiske utbredelsen av statistisk beregnede flommer på utvalgte steder i Norge. Data showing the geographical extent of statistically analyzed floods at chosen locations in Norway.
Map Name: Flomsoner
Legend
All Layers and Tables
Dynamic Legend
Dynamic All Layers
Layers:
Description: Data som viser den geografiske utbredelsen av statistisk beregnede flommer på utvalgte steder i Norge. Data showing the geographical extent of statistically analyzed floods at chosen locations in Norway.
Copyright Text: None
Spatial Reference:
102100
(3857)
LatestVCSWkid(0)
Single Fused Map Cache: true
Tile Info:
- Height: 256
- Width: 256
- DPI: 96
-
Levels of Detail: 24
-
Level ID: 1
[ Start Tile, End Tile ]
- Resolution: 78271.5169639999
- Scale: 2.95828763795777E8
-
Level ID: 2
[ Start Tile, End Tile ]
- Resolution: 39135.7584820001
- Scale: 1.47914381897889E8
-
Level ID: 3
[ Start Tile, End Tile ]
- Resolution: 19567.8792409999
- Scale: 7.3957190948944E7
-
Level ID: 4
[ Start Tile, End Tile ]
- Resolution: 9783.93962049996
- Scale: 3.6978595474472E7
-
Level ID: 5
[ Start Tile, End Tile ]
- Resolution: 4891.96981024998
- Scale: 1.8489297737236E7
- Format: PNG
- Compression Quality: 0.0
- Origin: X: -2.0037508342787E7
Y: 2.0037508342787E7
- Spatial Reference: 102100
(3857)
LatestVCSWkid(0)
Storage Info:
- Storage Format: esriMapCacheStorageModeCompactV2
- Packet Size: 128
Initial Extent:
XMin: 1232316.0992426034
YMin: 8376539.141610714
XMax: 1245681.6767378212
YMax: 8388855.012008717
Spatial Reference: 102100
(3857)
LatestVCSWkid(0)
Full Extent:
XMin: 30198.41572806652
YMin: 7945454.714808686
XMax: 3333407.4399398854
YMax: 1.1414288982749678E7
Spatial Reference: 102100
(3857)
LatestVCSWkid(0)
Units: esriMeters
Supported Image Format Types: PNG32,PNG24,PNG,JPG,DIB,TIFF,EMF,PS,PDF,GIF,SVG,SVGZ,BMP
Document Info:
Title: Flomsoner
Author:
Comments: Data som viser den geografiske utbredelsen av statistisk beregnede flommer på utvalgte steder i Norge. Data showing the geographical extent of statistically analyzed floods at chosen locations in Norway.
Subject: Data som viser den geografiske utbredelsen av statistisk beregnede flommer på utvalgte steder i Norge.
Data showing the geographical extent of statistically analyzed floods at chosen locations in Norway.
Category:
Keywords: Flomsone,Flomsonedata,Flomsonekartprosjektet,Flom,Flomutbredelse
AntialiasingMode: Fast
TextAntialiasingMode: Force
Supports Dynamic Layers: true
Resampling: false
MaxRecordCount: 1000
MaxImageHeight: 4096
MaxImageWidth: 4096
Supported Query Formats: JSON, geoJSON, PBF
Supports Query Data Elements: true
Min Scale: 5.91657527591555E8
Max Scale: 9027.977411
Min LOD: 0
Max LOD: 21
Supports Datum Transformation: true
Child Resources:
Info
Dynamic Layer
Supported Operations:
Export Map
Identify
QueryLegends
QueryDomains
Find
Return Updates