View In:
ArcGIS JavaScript
ArcGIS Online Map Viewer
ArcGIS Earth
ArcMap
View Footprint In:
ArcGIS Online Map Viewer
Service Description: ImageService/S1_intensitet
Name: ImageService/S1_intensitet
Description:
Single Fused Map Cache: false
Extent:
XMin: -91180
YMin: 6429540
XMax: 1123500
YMax: 7962720
Spatial Reference: 25833
(25833)
Initial Extent:
XMin: -91180
YMin: 6429540
XMax: 1123500
YMax: 7962720
Spatial Reference: 25833
(25833)
Full Extent:
XMin: -91180
YMin: 6429540
XMax: 1123500
YMax: 7962720
Spatial Reference: 25833
(25833)
Pixel Size X: 20.0
Pixel Size Y: 20.0
Band Count: 1
Pixel Type: F32
RasterFunction Infos: {"rasterFunctionInfos": [
{
"name": "StretchMatplotlibRamp_gray",
"description": "gray",
"help": ""
},
{
"name": "StretchMatplotlibRamp_greys",
"description": "Create a colormap from matplotlib available colormaps",
"help": "Use the argument 'mpl_colormap' to define a matplotlib colormap.\n\n Available colormaps are found here:\n https://matplotlib.org/stable/tutorials/colors/colormaps.html\n\n To reverse the colormap add '_r' to the end f.exa 'jet_r'"
},
{
"name": "StretchMatplotlibRamp_coolwarm",
"description": "Create a colormap from matplotlib available colormaps",
"help": "Use the argument 'mpl_colormap' to define a matplotlib colormap.\n\n Available colormaps are found here:\n https://matplotlib.org/stable/tutorials/colors/colormaps.html\n\n To reverse the colormap add '_r' to the end f.exa 'jet_r'"
},
{
"name": "StretchMatplotlibRamp_greys_r",
"description": "Create a colormap from matplotlib available colormaps",
"help": "Use the argument 'mpl_colormap' to define a matplotlib colormap.\n\n Available colormaps are found here:\n https://matplotlib.org/stable/tutorials/colors/colormaps.html\n\n To reverse the colormap add '_r' to the end f.exa 'jet_r'"
},
{
"name": "None",
"description": "Make a Raster or Raster Dataset into a Function Raster Dataset.",
"help": ""
},
{
"name": "StretchMatplotlibRamp",
"description": "Create a colormap from matplotlib available colormaps",
"help": "Use the argument 'mpl_colormap' to define a matplotlib colormap.\n\n Available colormaps are found here:\n https://matplotlib.org/stable/tutorials/colors/colormaps.html\n\n To reverse the colormap add '_r' to the end f.exa 'jet_r'"
},
{
"name": "StretchMatplotlibRamp_jet",
"description": "Create a colormap from matplotlib available colormaps",
"help": "Use the argument 'mpl_colormap' to define a matplotlib colormap.\n\n Available colormaps are found here:\n https://matplotlib.org/stable/tutorials/colors/colormaps.html\n\n To reverse the colormap add '_r' to the end f.exa 'jet_r'"
},
{
"name": "StretchMatplotlibRamp_seismic",
"description": "Create a colormap from matplotlib available colormaps",
"help": "Use the argument 'mpl_colormap' to define a matplotlib colormap.\n\n Available colormaps are found here:\n https://matplotlib.org/stable/tutorials/colors/colormaps.html\n\n To reverse the colormap add '_r' to the end f.exa 'jet_r'"
}
]}
Mensuration Capabilities: Basic
Has Histograms: false
Has Colormap: false
Has Multi Dimensions : false
Rendering Rule:
Min Scale: 0
Max Scale: 0
Copyright Text:
Edit Fields Info:
- Creation Date Field: created_date
- Creator Field: created_by
- Edit Date Field: changed_date
- Editor Field: changed_by
Ownership Based Access Control:
- Allow Others to Update: false
- Allow Others to Delete: false
Service Data Type: esriImageServiceDataTypeProcessed
Min Values: N/A
Max Values: N/A
Mean Values: N/A
Standard Deviation Values: N/A
Object ID Field: OBJECTID
Fields:
-
OBJECTID
(
type: esriFieldTypeOID, alias: OBJECTID
)
-
Name
(
type: esriFieldTypeString, alias: Name, length: 200
)
-
MinPS
(
type: esriFieldTypeDouble, alias: MinPS
)
-
MaxPS
(
type: esriFieldTypeDouble, alias: MaxPS
)
-
LowPS
(
type: esriFieldTypeDouble, alias: LowPS
)
-
HighPS
(
type: esriFieldTypeDouble, alias: HighPS
)
-
Category
(
type: esriFieldTypeInteger, alias: Category
, Coded Values:
[0: Unknown]
, [1: Primary]
, [2: Overview]
, ...6 more...
)
-
Tag
(
type: esriFieldTypeString, alias: Tag, length: 100
)
-
GroupName
(
type: esriFieldTypeString, alias: GroupName, length: 100
)
-
ProductName
(
type: esriFieldTypeString, alias: ProductName, length: 100
)
-
CenterX
(
type: esriFieldTypeDouble, alias: CenterX
)
-
CenterY
(
type: esriFieldTypeDouble, alias: CenterY
)
-
ZOrder
(
type: esriFieldTypeInteger, alias: ZOrder
)
-
Shape
(
type: esriFieldTypeGeometry, alias: Shape
)
-
Shape.STArea()
(
type: esriFieldTypeDouble, alias: Shape.STArea()
)
-
Shape.STLength()
(
type: esriFieldTypeDouble, alias: Shape.STLength()
)
Default Mosaic Method: Northwest
Allowed Mosaic Methods: NorthWest,LockRaster,ByAttribute,Seamline,None
SortField:
SortValue: null
Mosaic Operator: First
Default Compression Quality: 0
Default Resampling Method: Nearest
Max Record Count: 1000
Max Image Height: 4096
Max Image Width: 4096
Max Download Image Count: 20
Max Mosaic Image Count: 50
Allow Raster Function: true
Allow Copy: true
Allow Analysis: true
Allow Compute TiePoints: false
Supports Statistics: true
Supports Advanced Queries: true
Use StandardizedQueries: true
Raster Type Infos:
Name: Raster Dataset
Description: Supports all ArcGIS Raster Datasets
Help:
Has Raster Attribute Table: false
Edit Fields Info: {"creationDateField":"created_date","creatorField":"created_by","editDateField":"changed_date","editorField":"changed_by"}
Ownership Based AccessControl For Rasters: {"allowOthersToDelete":false,"allowOthersToUpdate":false}
Child Resources:
Info
Statistics
Key Properties
Legend
Raster Function Infos
Supported Operations:
Export Image
Query
Identify
Measure
Compute Histograms
Compute Statistics Histograms
Get Samples
Compute Class Statistics
Query Boundary
Compute Pixel Location
Compute Angles
Validate
Project