View In:
ArcGIS JavaScript
ArcGIS Online Map Viewer
ArcGIS Earth
ArcMap
ArcGIS Pro
View Footprint In:
ArcGIS Online Map Viewer
Service Description: På grunn av vassdragsregulering vil det på regulerte vann være endringer i vannstand og gjennomstrømning som er forskjellig fra forholdene på uregulerte vann. Dette påvirker isforholdene i deler av innsjøene. Kartene er basert på lokalkjentes erfaring, og det er alltid en mulighet for at noen svekkede områder er oversett. Vi mener likevel at det er viktig å informere om disse farlige områdene som vi kjenner til.
Vær klar over at inntak/utløp (vannvei) ofte er grovt tegnet inn i kartet, og av og til "bommer" de på områdene med svekket is. Stol da mest på at de røde områdene er riktig plassert.
Map Name: SvekketIs
Legend
All Layers and Tables
Dynamic Legend
Dynamic All Layers
Layers:
Description: På grunn av vassdragsregulering vil det på regulerte vann være endringer i vannstand og gjennomstrømning som er forskjellig fra forholdene på uregulerte vann. Dette påvirker isforholdene i deler av innsjøene. Kartene er basert på lokalkjentes erfaring, og det er alltid en mulighet for at noen svekkede områder er oversett. Vi mener likevel at det er viktig å informere om disse farlige områdene som vi kjenner til.
Vær klar over at inntak/utløp (vannvei) ofte er grovt tegnet inn i kartet, og av og til "bommer" de på områdene med svekket is. Stol da mest på at de røde områdene er riktig plassert.
Copyright Text:
Spatial Reference:
102100
(3857)
LatestVCSWkid(0)
Single Fused Map Cache: true
Tile Info:
- Height: 256
- Width: 256
- DPI: 96
-
Levels of Detail: 24
-
Level ID: 0
[ Start Tile, End Tile ]
- Resolution: 156543.03392800014
- Scale: 5.91657527591555E8
-
Level ID: 1
[ Start Tile, End Tile ]
- Resolution: 78271.51696399994
- Scale: 2.95828763795777E8
-
Level ID: 2
[ Start Tile, End Tile ]
- Resolution: 39135.75848200009
- Scale: 1.47914381897889E8
-
Level ID: 3
[ Start Tile, End Tile ]
- Resolution: 19567.87924099992
- Scale: 7.3957190948944E7
-
Level ID: 4
[ Start Tile, End Tile ]
- Resolution: 9783.93962049996
- Scale: 3.6978595474472E7
-
Level ID: 5
[ Start Tile, End Tile ]
- Resolution: 4891.96981024998
- Scale: 1.8489297737236E7
- Format: PNG
- Compression Quality: 0.0
- Origin: X: -2.0037508342787E7
Y: 2.0037508342787E7
- Spatial Reference: 102100
(3857)
LatestVCSWkid(0)
Storage Info:
- Storage Format: esriMapCacheStorageModeCompactV2
- Packet Size: 128
Initial Extent:
XMin: -255483.1948135146
YMin: 7693617.128806546
XMax: 3937951.845895247
YMax: 1.1441812046016436E7
Spatial Reference: 102100
(0)
LatestVCSWkid(0)
Full Extent:
XMin: -17787.988002237205
YMin: 7933418.427918885
XMax: 3496239.9110138533
YMax: 1.1512219339309022E7
Spatial Reference: 102100
(0)
LatestVCSWkid(0)
Units: esriMeters
Supported Image Format Types: PNG32,PNG24,PNG,JPG,DIB,TIFF,EMF,PS,PDF,GIF,SVG,SVGZ,BMP
Document Info:
Title: SvekketIs
Author:
Comments: På grunn av vassdragsregulering vil det på regulerte vann være endringer i vannstand og gjennomstrømning som er forskjellig fra forholdene på uregulerte vann. Dette påvirker isforholdene i deler av innsjøene. Kartene er basert på lokalkjentes erfaring, og det er alltid en mulighet for at noen svekkede områder er oversett. Vi mener likevel at det er viktig å informere om disse farlige områdene som vi kjenner til.
Vær klar over at inntak/utløp (vannvei) ofte er grovt tegnet inn i kartet, og av og til "bommer" de på områdene med svekket is. Stol da mest på at de røde områdene er riktig plassert.
Subject: 4 layers that show ice conditions on lakes
Category:
Keywords: ice,lakes
AntialiasingMode: None
TextAntialiasingMode: Force
Supports Dynamic Layers: true
Resampling: true
MaxRecordCount: 2000
MaxImageHeight: 4096
MaxImageWidth: 4096
Supported Query Formats: JSON, geoJSON, PBF
Supports Query Data Elements: true
Min Scale: 5.91657527591555E8
Max Scale: 1128.497176
Min LOD: 0
Max LOD: 19
Supports Datum Transformation: true
Child Resources:
Info
Dynamic Layer
Supported Operations:
Export Map
Identify
QueryLegends
QueryDomains
Find
Return Updates